BEGIN:VCALENDAR
VERSION:2.0
PRODID:-//ChamberMaster//Event Calendar 2.0//EN
METHOD:PUBLISH
X-PUBLISHED-TTL:P3D
REFRESH-INTERVAL:P3D
CALSCALE:GREGORIAN
BEGIN:VEVENT
DTSTART:20150930T230000Z
DTEND:20151001T010000Z
X-MICROSOFT-CDO-ALLDAYEVENT:FALSE
SUMMARY:Pattern Making
DESCRIPTION:Pattern Making \n\nSept 30 6-8 pm \n\nAges 15 + \n\n\n\nJoin us for a fun Pattern Making Class with local artist Kate E. Burke. Kate\, a textile artist who was featured in the 2015 & 2016 18th Street Fashion Show is known for her art that explores themes of juxtaposition. Burke designs her own apparel\, prints and dyes the fabric from which she sews her clothing line. Recently Burke's work stems from pattern exploration inspired by the everyday objects she encounters. Come and learn how to create truly unique patterns from everyday objects with Kansas City's own Kate E. Burke
X-ALT-DESC;FMTTYPE=text/html:<strong><span style="font-size: 14pt\;"><span style="font-family: arial\,sans-serif\;"><span style="color: black\;">Pattern Making&nbsp\;</span></span></span></strong><br />\n<strong><span style="font-size: 14pt\;"><span style="font-family: arial\,sans-serif\;"><span style="color: black\;">Sept 30 6-8 pm&nbsp\;</span></span></span></strong><br />\n<span style="font-family: arial\,sans-serif\;"><span style="color: black\;"><span style="font-size: medium\;">Ages 15 +&nbsp\;</span></span></span><br />\n<br />\n<span style="font-size: 12pt\;"><span style="font-family: arial\,sans-serif\;"><span style="color: black\;">Join us for a fun Pattern Making Class with local artist Kate E. Burke. Kate\, a textile artist who was featured in the 2015 &amp\; 2016 18th Street Fashion Show is known for her art that explores themes of juxtaposition. Burke designs her own apparel\, prints and dyes the fabric from which she sews her clothing line. Recently Burke&#39\;s work stems from pattern exploration inspired by the everyday objects she encounters. Come and learn how to create truly unique patterns from everyday objects with Kansas City&#39\;s own Kate E. Burke</span></span></span>
LOCATION:Dare to Dabble 1329 Swift
UID:e.211.4659
SEQUENCE:3
DTSTAMP:20260424T060110Z
URL:https://members.nkcbusinesscouncil.com/events/details/pattern-making-09-30-2015-4659
END:VEVENT

END:VCALENDAR
