BEGIN:VCALENDAR
VERSION:2.0
PRODID:-//ChamberMaster//Event Calendar 2.0//EN
METHOD:PUBLISH
X-PUBLISHED-TTL:P3D
REFRESH-INTERVAL:P3D
CALSCALE:GREGORIAN
BEGIN:VEVENT
DTSTART:20130511T150000Z
DTEND:20130511T190000Z
X-MICROSOFT-CDO-ALLDAYEVENT:FALSE
SUMMARY:Part with Your Art Supplies
DESCRIPTION:The newly formed non-profit\, The Northtowne Arts Coalition (NAC) in cooperation with Sears Garage Door Solutions KC\, is hosting a 1-day fundraiser on Saturday May 11th from 10 am to 2 pm\, called "Part With Your Art Supplies."  For more information about the NAC\, please visit their website www.NAC-NKC.org\, where you can download a flyer about this event.   The fundraiser will be held at Sears Garage Door Solutions\, 953 Swift Avenue\, North Kansas City\, MO 64116   www.searsoverheaddoorkc.com.   \n\n	They are calling on all Artists\, Crafters\, and Collectors of Incredible Great Stuff to donate useable arts and crafts supplies for adults and children such as: paints\, brushes\, palates\, pens\, pencils\, markers\, pastel\, blank paper of all kinds\, canvases (including those that can be painted over) frames (but no loose glass please!) art & crafts books\, scissors\, glues\, tapes\, paper cutters\, easels\, fabric\, yarn\, greeting cards\, tissue\, glitter\, ribbon\, twine\, portfolios\, all jewelry making supplies and old jewelry\, greeting cards\, matboard\, mat cutters and everything else that another creative person might find a use for!\n\n	When you've gathered the treasures you want to pass on\, please contact Valerie Phillips at 816-305-0770 to arrange pick-up or drop off.  If you donate at least $10 worth of supplies\, you will receive a ticket to be an early bird shopper at the sale beginning at 9 am.  Please pass this news along to everyone you know who might want to lighten their stash\, shop for arts & craft supply bargains themselves\, and help a non-profit\, Northland Arts organization in the process.
X-ALT-DESC;FMTTYPE=text/html:<div style="color: gray\;">\n	<span style="color: rgb(0\, 0\, 0)\;"><span style="font-size: medium\;"><span style="font-family: times new roman\;">The newly formed non-profit\, The Northtowne Arts Coalition (NAC) in cooperation with Sears Garage Door Solutions KC\, is hosting a 1-day fundraiser on Saturday May 11<sup><span style="font-size: small\;">th</span></sup></span> from 10 am to 2 pm\, called <strong>&ldquo\;Part With Your Art Supplies.&rdquo\;&nbsp\; </strong>For more information about the NAC\, please visit their website </span></span><a href="http://www.nac-nkc.org/"><a href="http://www.nac-nkc.org/"><span style="color: rgb(0\, 0\, 0)\;"><span style="font-size: medium\;"><span style="font-family: times new roman\;">www.NAC-NKC.org</span></span></span></a></a><span style="color: rgb(0\, 0\, 0)\;"><span style="font-size: medium\;"><span style="font-family: times new roman\;">\, where you can download a flyer about this event.&nbsp\; &nbsp\;The fundraiser will be held at Sears Garage Door Solutions\, 953 Swift Avenue\, North Kansas City\, MO 64116 &ndash\; </span></span></span><a href="http://www.searsoverheaddoorkc.com/"><a href="http://www.searsoverheaddoorkc.com/"><span style="color: rgb(0\, 0\, 0)\;"><span style="font-size: medium\;"><span style="font-family: times new roman\;">www.searsoverheaddoorkc.com</span></span></span></a></a><span style="color: rgb(0\, 0\, 0)\;"><span style="font-size: medium\;"><span style="font-family: times new roman\;">. &nbsp\;&nbsp\;</span></span><br />\n	<span style="font-size: medium\;"><span style="font-family: times new roman\;">They are calling on all Artists\, Crafters\, and Collectors of Incredible Great Stuff to donate <em><u>useable </u></em>arts and crafts supplies for adults and children such as: paints\, brushes\, palates\, pens\, pencils\, markers\, pastel\, blank paper of all kinds\, canvases (including those that can be painted over) frames (but no loose glass please!) art &amp\; crafts books\, scissors\, glues\, tapes\, paper cutters\, easels\, fabric\, yarn\, greeting cards\, tissue\, glitter\, ribbon\, twine\, portfolios\, all jewelry making supplies and old jewelry\, greeting cards\, matboard\, mat cutters and everything else that another creative person might find a use for!</span></span><br />\n	<span style="font-size: medium\;"><span style="font-family: times new roman\;">When you&rsquo\;ve gathered the treasures you want to pass on\, please contact Valerie Phillips at 816-305-0770 to arrange pick-up or drop off.&nbsp\; If you donate at least $10 worth of supplies\, you will receive a ticket to be an <strong>early bird shopper</strong> at the sale beginning at <strong>9 am.</strong>&nbsp\; Please pass this news along to everyone you know who might want to lighten their stash\, shop for arts &amp\; craft supply bargains themselves\, and help a non-profit\, Northland Arts organization in the process.</span></span></span><br />\n	&nbsp\;</div>\n
LOCATION:Sears Garage Door Solutions 953 Swift
UID:e.211.3529
SEQUENCE:3
DTSTAMP:20260425T211941Z
URL:https://members.nkcbusinesscouncil.com/events/details/part-with-your-art-supplies-05-11-2013-3529
END:VEVENT

END:VCALENDAR
