BEGIN:VCALENDAR
VERSION:2.0
PRODID:-//ChamberMaster//Event Calendar 2.0//EN
METHOD:PUBLISH
X-PUBLISHED-TTL:P3D
REFRESH-INTERVAL:P3D
CALSCALE:GREGORIAN
BEGIN:VEVENT
DTSTART:20160714T210000Z
DTEND:20160714T230000Z
X-MICROSOFT-CDO-ALLDAYEVENT:FALSE
SUMMARY:Park Lofts Ribbon Cutting
DESCRIPTION:Join us to see one of the newest renovated places to live in North Kansas City.
X-ALT-DESC;FMTTYPE=text/html:Join us to see one of the newest renovated places to live in North Kansas City.
LOCATION:Park Lofts 715 Armour
UID:e.211.5142
SEQUENCE:3
DTSTAMP:20260423T111947Z
URL:https://members.nkcbusinesscouncil.com/events/details/park-lofts-ribbon-cutting-07-14-2016-5142
END:VEVENT

END:VCALENDAR
