BEGIN:VCALENDAR
VERSION:2.0
PRODID:-//ChamberMaster//Event Calendar 2.0//EN
METHOD:PUBLISH
X-PUBLISHED-TTL:P3D
REFRESH-INTERVAL:P3D
CALSCALE:GREGORIAN
BEGIN:VEVENT
DTSTART:20150314T120000Z
DTEND:20150314T160000Z
X-MICROSOFT-CDO-ALLDAYEVENT:FALSE
SUMMARY:Pancake Breakfast
DESCRIPTION:Join us at Fire Station #1 for a pancake breakfast prepared and served by the city's hottest. Proceeds benefit the NKC Rotary and Fire Fighters Community Service Organization of North Kansas City.
X-ALT-DESC;FMTTYPE=text/html:Join us at Fire Station #1 for a pancake breakfast prepared and served by the city&#39\;s hottest. Proceeds benefit the NKC Rotary and Fire Fighters Community Service Organization of North Kansas City.
LOCATION:Fire Station #1 1815 Howell
UID:e.211.4411
SEQUENCE:3
DTSTAMP:20260424T132819Z
URL:https://members.nkcbusinesscouncil.com/events/details/pancake-breakfast-03-14-2015-4411
END:VEVENT

END:VCALENDAR
