BEGIN:VCALENDAR
VERSION:2.0
PRODID:-//ChamberMaster//Event Calendar 2.0//EN
METHOD:PUBLISH
X-PUBLISHED-TTL:P3D
REFRESH-INTERVAL:P3D
CALSCALE:GREGORIAN
BEGIN:VEVENT
DTSTART:20150903T233000Z
DTEND:20150904T010000Z
X-MICROSOFT-CDO-ALLDAYEVENT:FALSE
SUMMARY:Palmistry Craft Class
DESCRIPTION:Learn the basics of Palmistry while you create your own unique piece of art using your inked hand prints. Age18+
X-ALT-DESC;FMTTYPE=text/html:<span style="color: black\; font-family: &quot\;Arial&quot\;\,&quot\;sans-serif&quot\;\; font-size: 12pt\; mso-fareast-font-family: &quot\;Times New Roman&quot\;\; mso-ansi-language: EN-US\; mso-fareast-language: EN-US\; mso-bidi-language: AR-SA\;">Learn the basics of Palmistry while you create your own unique piece of art using your inked hand prints. Age18+</span>
LOCATION:1329 Swift
UID:e.211.4647
SEQUENCE:3
DTSTAMP:20260424T071621Z
URL:https://members.nkcbusinesscouncil.com/events/details/palmistry-craft-class-09-03-2015-4647
END:VEVENT

END:VCALENDAR
