BEGIN:VCALENDAR
VERSION:2.0
PRODID:-//ChamberMaster//Event Calendar 2.0//EN
METHOD:PUBLISH
X-PUBLISHED-TTL:P3D
REFRESH-INTERVAL:P3D
CALSCALE:GREGORIAN
BEGIN:VEVENT
DTSTART:20130503T223000Z
DTEND:20130504T003000Z
X-MICROSOFT-CDO-ALLDAYEVENT:FALSE
SUMMARY:Northtowne Arts Coalition Debut Show: Selected Artists
DESCRIPTION:The Northtowne Arts Coalition (NAC) and Williams\, Spurgeon\, Kuhl & Freshnock Architects (WSKF) are excited to announce the NAC's Debut Show: Selected Artists at the One Ten Gallery\, 110 Armour Road\, North Kansas City\, MO 64116.  The gallery exhibit runs from May 3rd to July 3rd\, 2013.  The NAC is a newly formed non-profit comprised of many well-known and highly accomplished local artists. \n	\n		Join us for the Opening Reception Friday\, May 3rd from 5:30 to 7:30 PM.  Refreshments will be provided.  Get to know local artists and the NAC whose mission is to develop\, enhance\, and promote the arts within our community.   Come to browse or come to buy.  NAC's intention is to advance and acknowledge all disciplines of the arts\; a community that organizes and hosts events that reflect multi-cultural contribution to the growth and well-being of the Northland. \n	\n		In addition to the One Ten Gallery and WSKF Architects\, the NAC appreciates the support of The Latin Bistro\, Aunt Mary's Cookies\, OZO Coffee Company\, Cinder Block Brewery and Bowah & P-Bo DJs & Music Production. \n	\n		We really have a NAC for getting the arts out there! (haTs)
X-ALT-DESC;FMTTYPE=text/html:<div style="color: gray\;">\n	<p>\n		<font color="#000000"><span style="font-family: &quot\;Arial&quot\;\,&quot\;sans-serif&quot\;\; font-size: 10pt\;">The Northtowne Arts Coalition (NAC) and Williams\, Spurgeon\, Kuhl &amp\; Freshnock Architects (WSKF) are excited to announce the&nbsp\;<b>NAC&rsquo\;s Debut Show: Selected Artists</b>&nbsp\;at the One Ten Gallery\, 110 Armour Road\, North Kansas City\, MO 64116.&nbsp\; The gallery exhibit runs from May 3rd to July 3<sup>rd</sup>\, 2013.&nbsp\; The NAC is a newly formed non-profit comprised of many well-known and highly accomplished local artists.&nbsp\;</span><o:p></o:p></font></p>\n	<p>\n		<font color="#000000"><span style="font-family: &quot\;Arial&quot\;\,&quot\;sans-serif&quot\;\; font-size: 10pt\;">Join us for the Opening Reception Friday\, May 3<sup>rd</sup>&nbsp\;from 5:30 to 7:30 PM.&nbsp\; Refreshments will be provided.&nbsp\; Get to know local artists and the NAC whose mission is to develop\, enhance\, and promote the arts within our community.&nbsp\;&nbsp\; Come to browse or come to buy.&nbsp\; NAC&rsquo\;s intention is to advance and acknowledge all disciplines of the arts\; a community that organizes and hosts events that reflect multi-cultural contribution to the growth and well-being of the Northland.&nbsp\;</span><o:p></o:p></font></p>\n	<p>\n		<font color="#000000"><span style="font-family: &quot\;Arial&quot\;\,&quot\;sans-serif&quot\;\; font-size: 10pt\;">In addition to the One Ten Gallery and WSKF Architects\, the NAC appreciates the support of The Latin Bistro\, Aunt Mary&rsquo\;s Cookies\, OZO Coffee Company\, Cinder Block Brewery and Bowah &amp\; P-Bo DJs &amp\; Music Production.&nbsp\;</span><o:p></o:p></font></p>\n	<p>\n		<font color="#000000"><b><i><span style="font-family: &quot\;Arial&quot\;\,&quot\;sans-serif&quot\;\; font-size: 10pt\;">We really have a NAC for getting the arts out there! (haTs)</span></i></b><o:p></o:p></font></p>\n	<p>\n		<o:p></o:p></p>\n</div>\n
LOCATION:WSKF Architects 110 Armour Road
UID:e.211.3527
SEQUENCE:3
DTSTAMP:20260425T194735Z
URL:https://members.nkcbusinesscouncil.com/events/details/northtowne-arts-coalition-debut-show-selected-artists-05-03-2013-3527
END:VEVENT

END:VCALENDAR
