BEGIN:VCALENDAR
VERSION:2.0
PRODID:-//ChamberMaster//Event Calendar 2.0//EN
METHOD:PUBLISH
X-PUBLISHED-TTL:P3D
REFRESH-INTERVAL:P3D
CALSCALE:GREGORIAN
BEGIN:VEVENT
DTSTART:20131015T170000Z
DTEND:20131015T220000Z
X-MICROSOFT-CDO-ALLDAYEVENT:FALSE
SUMMARY:Northland Women's Exchange - Women's Business & Health Expo
DESCRIPTION:Women's Business & Health Expo\n\nOctober 15th\, 2013 12:00 pm - 5:00 pm\n\nNorth Kansas City Community Center\n\n1999 Iron St.\, North Kansas City\, MO 64116\n\nCome support Northland Women in Business to Promote Good Health for Women and Their Families at a FREE Event Featuring: \n\n\n	\n		Business fair with several local vendors\n	\n		Blood drive with Community Blood Center\n	\n		Bone Marrow Registry\n	\n		Free women's health checks and breast exams by registered physician\n\nFor more information or if you'd like to purchase a vendor table at the event for $40 (1 box lunch included)\,
X-ALT-DESC;FMTTYPE=text/html:<strong><span style="font-family:brush script mt\;"><span style="font-size:36.0pt\;">Women&rsquo\;s Business &amp\; Health Expo</span></span></strong><br />\n<span style="font-family:bodoni mt\,serif\;"><span style="font-size:20.0pt\;">October 15<sup>th</sup>\, 2013 12:00 pm - 5:00 pm</span></span><br />\n<strong><span style="color:#333333\;"><span style="font-family:bodoni mt\,serif\;"><span style="font-size:18.0pt\;">North Kansas City Community Center</span></span></span></strong><br />\n<span style="color:#333333\;"><span style="font-family:bodoni mt\,serif\;"><span style="font-size:16.0pt\;">1999 Iron St.\, North Kansas City\, MO 64116</span></span></span><br />\n<span style="color:#333333\;"><span style="font-family:bodoni mt\,serif\;"><span style="font-size:16.0pt\;">Come support Northland Women in Business to Promote Good Health for Women and Their Families at a FREE Event Featuring: </span></span></span><br />\n<ul>\n	<li>\n		<span style="color:#333333\;"><span style="font-family:bodoni mt\,serif\;"><span style="font-size:16.0pt\;">Business fair with several local vendors</span></span></span></li>\n	<li>\n		<span style="color:#333333\;"><span style="font-family:bodoni mt\,serif\;"><span style="font-size:16.0pt\;">Blood drive with <strong>Community Blood Center</strong></span></span></span></li>\n	<li>\n		<span style="color:#333333\;"><span style="font-family:bodoni mt\,serif\;"><span style="font-size:16.0pt\;">Bone Marrow Registry</span></span></span></li>\n	<li>\n		<span style="color:#333333\;"><span style="font-family:bodoni mt\,serif\;"><span style="font-size:16.0pt\;">Free women&rsquo\;s health checks and breast exams by registered physician</span></span></span></li>\n</ul>\n<span style="color:#333333\;"><span style="font-family:bodoni mt\,serif\;"><span style="font-size:16.0pt\;">For more information or if you&rsquo\;d like to purchase a vendor table at the event for $40 (1 box lunch included)\,</span></span></span>
LOCATION:North Kansas City Community Center 1999 Iron
UID:e.211.3551
SEQUENCE:3
DTSTAMP:20260425T124118Z
URL:https://members.nkcbusinesscouncil.com/events/details/northland-women-s-exchange-women-s-business-health-expo-10-15-2013-3551
END:VEVENT

END:VCALENDAR
