BEGIN:VCALENDAR
VERSION:2.0
PRODID:-//ChamberMaster//Event Calendar 2.0//EN
METHOD:PUBLISH
X-PUBLISHED-TTL:P3D
REFRESH-INTERVAL:P3D
CALSCALE:GREGORIAN
BEGIN:VEVENT
DTSTART:20150425T140000Z
DTEND:20150425T180000Z
X-MICROSOFT-CDO-ALLDAYEVENT:FALSE
SUMMARY:Northland Recycling Extravaganza
DESCRIPTION:This is your one stop shop to recycle almost everything.\n\nThis free event is open to everyone\, business and resident of Parkville\, Riverside and North Kansas City.\n\n\n\nFor a complete list of accepted items visit the event Facebook page:\n\nwww.facebook.com/NorthlandRecyclingExtravaganza
X-ALT-DESC;FMTTYPE=text/html:This is your one stop shop to recycle almost everything.<br />\nThis free event is open to everyone\, business and resident of Parkville\, Riverside and North Kansas City.<br />\n<br />\nFor a complete list of accepted items visit the event Facebook page:<br />\n<a href="http://www.facebook.com/NorthlandRecyclingExtravaganza">www.facebook.com/</a><a href="http://www.facebook.com/NorthlandRecyclingExtravaganza">NorthlandRecyclingExtravaganza</a>
LOCATION:6305 NW Riverpark Drive (off 9 Highway between Riverside and Parkville)
UID:e.211.4415
SEQUENCE:3
DTSTAMP:20260424T121700Z
URL:https://members.nkcbusinesscouncil.com/events/details/northland-recycling-extravaganza-04-25-2015-4415
END:VEVENT

END:VCALENDAR
