BEGIN:VCALENDAR
VERSION:2.0
PRODID:-//ChamberMaster//Event Calendar 2.0//EN
METHOD:PUBLISH
X-PUBLISHED-TTL:P3D
REFRESH-INTERVAL:P3D
CALSCALE:GREGORIAN
BEGIN:VEVENT
DTSTART:20260422T124500Z
DTEND:20260422T140000Z
X-MICROSOFT-CDO-ALLDAYEVENT:FALSE
SUMMARY:Northland Coffee Connect: Zodan Merchandising
DESCRIPTION:Jennifer and Robert Hetzel will tell us about their dream business\, Zodan Merchandising. They became part of the North Kansas City business community as one of the first tenants at Elevator Co-Warehousing's North Kansas City location. They specialize in custom 3D-printed items\, laser engraving\, vinyl stickers\, and decorated drinkware.
X-ALT-DESC;FMTTYPE=text/html:<p><span style="font-family:aptos\,sans-serif\;"><span style="font-size:12.0pt\;">&nbsp\;</span></span><span style="color:black\;"><span style="font-family:verdana\,sans-serif\;">Jennifer and Robert Hetzel will tell us about their dream business\, Zodan Merchandising. They became part of the North Kansas City business community as one of the first tenants at Elevator Co-Warehousing&#39\;s North Kansas City location. They specialize in custom 3D-printed items\, laser engraving\, vinyl stickers\, and decorated drinkware.</span></span><br />\n&nbsp\;</p>\n
LOCATION:20 W 14th Ave Suite 149
UID:e.211.6084
SEQUENCE:3
DTSTAMP:20260426T001501Z
URL:https://members.nkcbusinesscouncil.com/events/details/northland-coffee-connect-zodan-merchandising-6084
END:VEVENT

END:VCALENDAR
