BEGIN:VCALENDAR
VERSION:2.0
PRODID:-//ChamberMaster//Event Calendar 2.0//EN
METHOD:PUBLISH
X-PUBLISHED-TTL:P3D
REFRESH-INTERVAL:P3D
CALSCALE:GREGORIAN
BEGIN:VEVENT
DTSTART:20260107T134500Z
DTEND:20260107T150000Z
X-MICROSOFT-CDO-ALLDAYEVENT:FALSE
SUMMARY:Northland Coffee Connect: Tropical Smoothie
DESCRIPTION:Join us for coffee and conversation with Tropical Smoothie Franchise Owner Nikki Vogel and learn how her career has evolved from a BS degree in biomedical sciences to a master's degree in physician assistant studies in Alabama to a rural health clinic in western Kansas. A few relocations later and she and her lawyer husband found their way to Kansas City. She now combines working for Orthopedic Health of Kansas City\, being a mother of two young children and owning two Tropical Smoothie Cafe franchises.
X-ALT-DESC;FMTTYPE=text/html:<span style="color: rgb(0\, 0\, 0)\; font-family: tahoma\; font-size: 14px\;">Join us for coffee and conversation with Tropical Smoothie Franchise Owner Nikki Vogel and learn how her career has evolved from a BS degree in biomedical sciences to a master&#39\;s degree in physician assistant studies in Alabama to a rural health clinic in western Kansas. A few relocations later and she and her lawyer husband found their way to Kansas City. She now combines working for Orthopedic Health of Kansas City\, being a mother of two young children and owning two Tropical Smoothie Cafe franchises.&nbsp\;</span><br />\n&nbsp\;
LOCATION:Tropical Smoothie 119 Armour Rd
UID:e.211.6065
SEQUENCE:3
DTSTAMP:20260422T114156Z
URL:https://members.nkcbusinesscouncil.com/events/details/northland-coffee-connect-tropical-smoothie-6065
END:VEVENT

END:VCALENDAR
