BEGIN:VCALENDAR
VERSION:2.0
PRODID:-//ChamberMaster//Event Calendar 2.0//EN
METHOD:PUBLISH
X-PUBLISHED-TTL:P3D
REFRESH-INTERVAL:P3D
CALSCALE:GREGORIAN
BEGIN:VEVENT
DTSTART:20260408T124500Z
DTEND:20260408T140000Z
X-MICROSOFT-CDO-ALLDAYEVENT:FALSE
SUMMARY:Northland Coffee Connect: Sugar and Spice Catering
DESCRIPTION:Sugar and Spice Catering
X-ALT-DESC;FMTTYPE=text/html:Sugar and Spice Catering
LOCATION:1443 Swift St\, North Kansas City\, MO 64116
UID:e.211.6080
SEQUENCE:3
DTSTAMP:20260426T001450Z
URL:https://members.nkcbusinesscouncil.com/events/details/northland-coffee-connect-sugar-and-spice-catering-6080
END:VEVENT

END:VCALENDAR
