BEGIN:VCALENDAR
VERSION:2.0
PRODID:-//ChamberMaster//Event Calendar 2.0//EN
METHOD:PUBLISH
X-PUBLISHED-TTL:P3D
REFRESH-INTERVAL:P3D
CALSCALE:GREGORIAN
BEGIN:VEVENT
DTSTART:20251119T134500Z
DTEND:20251119T150000Z
X-MICROSOFT-CDO-ALLDAYEVENT:FALSE
SUMMARY:Northland Coffee Connect: Rickey Pierce\, Clay County EDC
DESCRIPTION:Join us for Northland Coffee Connect with Rickey Pierce\, Director of Loan Operations for the Clay County Economic Development Council.\n\n\n\nWith more than 20 years in banking most of it in commercial lending Rickey brings deep expertise in helping small and medium-sized businesses grow. He's passionate about connecting entrepreneurs with resources\, especially through the SBA 504 loan program\, and works closely with both bankers and business owners to help them understand its benefits.\n\n\n\nActive with several Northland nonprofits\, Rickey is dedicated to building a stronger\, more vibrant business community across the region.\n\n\n\nCome enjoy coffee\, conversation\, and connections with one of the Northland's biggest champions for local business growth!\n\n\n\nBrought to you by the North Kansas City Business Council and the Clay County Economic Development Council with additional sponsorship from by Express Employment Professionals.
X-ALT-DESC;FMTTYPE=text/html:<p><br />\n<span style="font-size:14px\;"><span style="font-family:tahoma\;">Join us for Northland Coffee Connect with Rickey Pierce\, Director of Loan Operations for the Clay County Economic Development Council.<br />\n<br />\nWith more than 20 years in banking&mdash\;most of it in commercial lending&mdash\;Rickey brings deep expertise in helping small and medium-sized businesses grow. He&rsquo\;s passionate about connecting entrepreneurs with resources\, especially through the SBA 504 loan program\, and works closely with both bankers and business owners to help them understand its benefits.<br />\n<br />\nActive with several Northland nonprofits\, Rickey is dedicated to building a stronger\, more vibrant business community across the region.<br />\n<br />\nCome enjoy coffee\, conversation\, and connections with one of the Northland&rsquo\;s biggest champions for local business growth!</span></span><br />\n<br />\n<span style="font-size:14px\;"><span style="font-family:tahoma\;"><span style="text-align: center\;">Brought to you by the&nbsp\;</span>North Kansas City Business Council&nbsp\;<span style="text-align: center\;">and the&nbsp\;</span>Clay County Economic Development Council<span style="text-align: center\;">&nbsp\;with additional sponsorship from by&nbsp\;</span>Express Employment Professionals<span style="text-align: center\;">.&nbsp\;</span></span></span></p>\n
LOCATION:Life Unlimited Inc. 320 Armour Road North Kansas City
UID:e.211.6047
SEQUENCE:3
DTSTAMP:20260421T140625Z
URL:https://members.nkcbusinesscouncil.com/events/details/northland-coffee-connect-rickey-pierce-clay-county-edc-6047
END:VEVENT

END:VCALENDAR
