BEGIN:VCALENDAR
VERSION:2.0
PRODID:-//ChamberMaster//Event Calendar 2.0//EN
METHOD:PUBLISH
X-PUBLISHED-TTL:P3D
REFRESH-INTERVAL:P3D
CALSCALE:GREGORIAN
BEGIN:VEVENT
DTSTART:20250115T134500Z
DTEND:20250115T150000Z
X-MICROSOFT-CDO-ALLDAYEVENT:FALSE
SUMMARY:Northland Coffee Connect: Mid-America Contractors
DESCRIPTION:--\n\nNorthland Coffee Connect happens every Wednesday morning from 7:45 to 9 am at various businesses around the Northland. Complimentary coffee is provided\, and all are welcome. \n\nBrought to you by the @nkcbc and the Clay County Economic Development Council with additional sponsorship from @expressproskc.
X-ALT-DESC;FMTTYPE=text/html:<div class="xdj266r x11i5rnm xat24cr x1mh8g0r x1vvkbs x126k92a" style="margin: 0px\; overflow-wrap: break-word\; white-space-collapse: preserve\; font-family: &quot\;Segoe UI Historic&quot\;\, &quot\;Segoe UI&quot\;\, Helvetica\, Arial\, sans-serif\; color: rgb(8\, 8\, 9)\; font-size: 15px\;">\n<div dir="auto" style="font-family: inherit\;">--<br />\nNorthland Coffee Connect happens every Wednesday morning from 7:45 to 9 am at various businesses around the Northland. Complimentary coffee is provided\, and all are welcome.&nbsp\;<br />\nBrought to you by the @nkcbc and the Clay County Economic Development Council with additional sponsorship from @expressproskc.&nbsp\;</div>\n</div>\n
LOCATION:Mid-America Contractors 1400 Iron Street North Kansas City\, MO 64116
UID:e.211.5929
SEQUENCE:3
DTSTAMP:20260419T221346Z
URL:https://members.nkcbusinesscouncil.com/events/details/northland-coffee-connect-mid-america-contractors-5929
END:VEVENT

END:VCALENDAR
