BEGIN:VCALENDAR
VERSION:2.0
PRODID:-//ChamberMaster//Event Calendar 2.0//EN
METHOD:PUBLISH
X-PUBLISHED-TTL:P3D
REFRESH-INTERVAL:P3D
CALSCALE:GREGORIAN
BEGIN:VEVENT
DTSTART:20260506T124500Z
DTEND:20260506T140000Z
X-MICROSOFT-CDO-ALLDAYEVENT:FALSE
SUMMARY:Northland Coffee Connect: KC Blueprint & Planroom
DESCRIPTION:KC Blueprint & Planroom
X-ALT-DESC;FMTTYPE=text/html:<p class="elementtoproof" style="background:white">KC Blueprint &amp\; Planroom</p>\n
LOCATION:29 W 14th Ave\, Ste 1
UID:e.211.6100
SEQUENCE:3
DTSTAMP:20260424T011325Z
URL:https://members.nkcbusinesscouncil.com/events/details/northland-coffee-connect-kc-blueprint-planroom-6100
END:VEVENT

END:VCALENDAR
