BEGIN:VCALENDAR
VERSION:2.0
PRODID:-//ChamberMaster//Event Calendar 2.0//EN
METHOD:PUBLISH
X-PUBLISHED-TTL:P3D
REFRESH-INTERVAL:P3D
CALSCALE:GREGORIAN
BEGIN:VEVENT
DTSTART:20251112T134500Z
DTEND:20251112T150000Z
X-MICROSOFT-CDO-ALLDAYEVENT:FALSE
SUMMARY:Northland Coffee Connect: Edwards Jones Investment
DESCRIPTION:Join us for coffee and conversation with Edward Jones Financial Advisor Tim Dolan and his family team   trusted names in financial guidance and longtime supporters of the NKC community.\n\n \n\nFor more than 30 years\, Tim has helped families and businesses plan for their financial futures\, earning national recognition among Edward Jones' top advisors. Now\, some of his sons have joined him in continuing the Dolan family tradition of service and community connection.\n\n \n\nTim's also a familiar face beyond the office   a proud NKC Rotary member\, past NKCBC president and board member emeritus\, and active supporter of local youth and civic programs.\n\n \n\nCome connect with one of NKC's most respected (and most rooted) financial families!
X-ALT-DESC;FMTTYPE=text/html:<div class="elementToProof" style="font-size: 12pt\; font-style: normal\; font-variant-caps: normal\; font-weight: 400\; letter-spacing: normal\; orphans: auto\; text-indent: 0px\; text-transform: none\; white-space: normal\; widows: auto\; word-spacing: 0px\; -webkit-text-stroke-width: 0px\; text-decoration: none\; direction: ltr\; text-align: left\; line-height: normal\; margin: 0in\; font-family: Verdana\, Geneva\, sans-serif\, serif\, EmojiFont\; color: rgb(0\, 0\, 0)\;"><br />\n<span style="font-size:14px\;"><span style="font-family:tahoma\;">Join us for coffee and conversation with Edward Jones Financial Advisor Tim Dolan and his family team &mdash\; trusted names in financial guidance and longtime supporters of the NKC community.</span></span></div>\n\n<div class="elementToProof" style="font-size: 12pt\; font-style: normal\; font-variant-caps: normal\; font-weight: 400\; letter-spacing: normal\; orphans: auto\; text-indent: 0px\; text-transform: none\; white-space: normal\; widows: auto\; word-spacing: 0px\; -webkit-text-stroke-width: 0px\; text-decoration: none\; text-align: left\; margin: 0px\; font-family: Verdana\, Geneva\, sans-serif\, serif\, EmojiFont\; color: rgb(0\, 0\, 0)\;">&nbsp\;</div>\n\n<div class="elementToProof" style="font-size: 12pt\; font-style: normal\; font-variant-caps: normal\; font-weight: 400\; letter-spacing: normal\; orphans: auto\; text-indent: 0px\; text-transform: none\; white-space: normal\; widows: auto\; word-spacing: 0px\; -webkit-text-stroke-width: 0px\; text-decoration: none\; text-align: left\; margin: 0px\; font-family: Verdana\, Geneva\, sans-serif\, serif\, EmojiFont\; color: rgb(0\, 0\, 0)\;"><span style="font-size:14px\;"><span style="font-family:tahoma\;">For more than 30 years\, Tim has helped families and businesses plan for their financial futures\, earning national recognition among Edward Jones&rsquo\; top advisors. Now\, some of his sons have joined him in continuing the Dolan family tradition of service and community connection.</span></span></div>\n\n<div class="elementToProof" style="font-size: 12pt\; font-style: normal\; font-variant-caps: normal\; font-weight: 400\; letter-spacing: normal\; orphans: auto\; text-indent: 0px\; text-transform: none\; white-space: normal\; widows: auto\; word-spacing: 0px\; -webkit-text-stroke-width: 0px\; text-decoration: none\; text-align: left\; margin: 0px\; font-family: Verdana\, Geneva\, sans-serif\, serif\, EmojiFont\; color: rgb(0\, 0\, 0)\;">&nbsp\;</div>\n\n<div class="elementToProof" style="font-size: 12pt\; font-style: normal\; font-variant-caps: normal\; font-weight: 400\; letter-spacing: normal\; orphans: auto\; text-indent: 0px\; text-transform: none\; white-space: normal\; widows: auto\; word-spacing: 0px\; -webkit-text-stroke-width: 0px\; text-decoration: none\; text-align: left\; margin: 0px\; font-family: Verdana\, Geneva\, sans-serif\, serif\, EmojiFont\; color: rgb(0\, 0\, 0)\;"><span style="font-size:14px\;"><span style="font-family:tahoma\;">Tim&rsquo\;s also a familiar face beyond the office &mdash\; a proud NKC Rotary member\, past NKCBC president and board member emeritus\, and active supporter of local youth and civic programs.</span></span></div>\n\n<div class="elementToProof" style="font-size: 12pt\; font-style: normal\; font-variant-caps: normal\; font-weight: 400\; letter-spacing: normal\; orphans: auto\; text-indent: 0px\; text-transform: none\; white-space: normal\; widows: auto\; word-spacing: 0px\; -webkit-text-stroke-width: 0px\; text-decoration: none\; text-align: left\; margin: 0px\; font-family: Verdana\, Geneva\, sans-serif\, serif\, EmojiFont\; color: rgb(0\, 0\, 0)\;">&nbsp\;</div>\n\n<div class="elementToProof" style="font-size: 12pt\; font-style: normal\; font-variant-caps: normal\; font-weight: 400\; letter-spacing: normal\; orphans: auto\; text-indent: 0px\; text-transform: none\; white-space: normal\; widows: auto\; word-spacing: 0px\; -webkit-text-stroke-width: 0px\; text-decoration: none\; text-align: left\; margin: 0px\; font-family: Verdana\, Geneva\, sans-serif\, serif\, EmojiFont\; color: rgb(0\, 0\, 0)\;"><span style="font-size:14px\;"><span style="font-family:tahoma\;">Come connect with one of NKC&rsquo\;s most respected (and most rooted) financial families!</span></span></div>\n
LOCATION:1907 Swift Avenue Suite 200 North Kansas City
UID:e.211.6039
SEQUENCE:3
DTSTAMP:20260421T140905Z
URL:https://members.nkcbusinesscouncil.com/events/details/northland-coffee-connect-edwards-jones-investment-6039
END:VEVENT

END:VCALENDAR
