BEGIN:VCALENDAR
VERSION:2.0
PRODID:-//ChamberMaster//Event Calendar 2.0//EN
METHOD:PUBLISH
X-PUBLISHED-TTL:P3D
REFRESH-INTERVAL:P3D
CALSCALE:GREGORIAN
BEGIN:VEVENT
DTSTART:20151007T133000Z
DTEND:20151007T150000Z
X-MICROSOFT-CDO-ALLDAYEVENT:FALSE
SUMMARY:Northland Coffee Connect
DESCRIPTION:Join us for a Livestream of the Kauffman Center's 1 Million Cups Program and additional presentations from local Northland businesses. This networking event is for anyone interested in starting or supporting entrepreneurial ventures in the Kansas City area.
X-ALT-DESC;FMTTYPE=text/html:Join us for a Livestream of the Kauffman Center&#39\;s 1 Million Cups Program and additional presentations from local Northland businesses. This networking event is for anyone interested in starting or supporting entrepreneurial ventures in the Kansas City area.
LOCATION:Armour Loft 406 Armour Road
UID:e.211.4365
SEQUENCE:3
DTSTAMP:20260424T045855Z
URL:https://members.nkcbusinesscouncil.com/events/details/northland-coffee-connect-10-07-2015-4365
END:VEVENT

END:VCALENDAR
