BEGIN:VCALENDAR
VERSION:2.0
PRODID:-//ChamberMaster//Event Calendar 2.0//EN
METHOD:PUBLISH
X-PUBLISHED-TTL:P3D
REFRESH-INTERVAL:P3D
CALSCALE:GREGORIAN
BEGIN:VEVENT
DTSTART:20150923T220000Z
DTEND:20150924T000000Z
X-MICROSOFT-CDO-ALLDAYEVENT:FALSE
SUMMARY:Northland CAPS Business Partner Round Up
DESCRIPTION:WEDNESDAY\, SEPTEMBER 23RD\, 2015 FROM 5:00PM TO 7:00PM\n\nAmbassador Building -12200 N Ambassador Dr Kansas City\, MO 64163\n\nWe are rounding up all business partners for the 2015-16 school year. \n\nPlease join us for appetizers at 5:00 pm and network with fellow businesses. \n\nPresentation at 6:00 pm!\n\nRSVP @ https://www.eventbrite.com/e/northland-caps-business-partner-round-up-tickets-18255068401\n\nQuestions: 816-977-8111
X-ALT-DESC;FMTTYPE=text/html:<p align="LEFT">&nbsp\;</p>\n\n<p><font size="3">WEDNESDAY\, SEPTEMBER </font><font size="3">23</font><font size="1">RD</font><font size="3">\, 2015 FROM 5:00PM TO 7:00PM</font></p>\n\n<p><font size="3">Ambassador Building -12200 N Ambassador Dr Kansas City\, MO 64163</font></p>\n\n<p><font face="Georgia\,Georgia" size="1"><font face="Georgia\,Georgia" size="1">We are rounding up all business partners for the 2015-16 school year. </font></font></p>\n\n<p><font face="Georgia\,Georgia" size="1"><font face="Georgia\,Georgia" size="1">Please join us for appetizers at 5:00 pm and network with fellow businesses. </font></font></p>\n\n<p><font face="Georgia\,Georgia" size="1"><font face="Georgia\,Georgia" size="1">Presentation at 6:00 pm!</font></font></p>\n\n<p><font size="1">RSVP @ https://www.eventbrite.com/e/northland-caps-business-partner-round-up-tickets-18255068401</font></p>\n\n<p><font size="1">Questions: 816-977-8111</font></p>\n
LOCATION:
UID:e.211.4656
SEQUENCE:3
DTSTAMP:20260424T062134Z
URL:https://members.nkcbusinesscouncil.com/events/details/northland-caps-business-partner-round-up-09-23-2015-4656
END:VEVENT

END:VCALENDAR
