BEGIN:VCALENDAR
VERSION:2.0
PRODID:-//ChamberMaster//Event Calendar 2.0//EN
METHOD:PUBLISH
X-PUBLISHED-TTL:P3D
REFRESH-INTERVAL:P3D
CALSCALE:GREGORIAN
BEGIN:VEVENT
DTSTART:20130504T140000Z
DTEND:20130504T190000Z
X-MICROSOFT-CDO-ALLDAYEVENT:FALSE
SUMMARY:North Kansas City Schools100th Birthday
DESCRIPTION:Celebrate North Kansas City Schools 100th birthday* on Saturday\, May 4\, 2013\, at North Kansas City High School and the District Football Stadium\, located at 620 E. 23rd Avenue.\n\n		\n\n		Join us for a Parade of Schools at 9 a.m.\, followed by the annual RUN NKC Schools 5K at 9:45 a.m. Festivities continue until 2 p.m.\n\n		It promises to be a day of family-friendly fun\, with a free picnic from 11 a.m. to 1 p.m. and activities for all ages\, including history displays\, music performances\, a student art show\, culinary and physical education demonstrations\, automotive program cars\, face painting\, chalk art\, children's games and much more.\n	\n		People who attend will be invited to sign a big 100th birthday cake and record their school memories on a "graffiti wall" outside the District Football Stadium. \n	\n		Bob Hiatt\, a retired North Kansas City High School assistant principal\, will present a district history overview and slideshow at 1 p.m. in the auditorium.\n	\n		The 5K benefits the North Kansas City Schools Education Foundation and special centennial fundraising projects\, as well as PTAs\, PTSAs and Booster Clubs at district schools. When you register\, $5 goes to the school organization you designate.\n	\n		Registration costs $25 per person and includes a Centennial T-shirt. A Family Stroll for those with small children is $25 per family\, with one T-shirt included. Same-day registration is $30. Prizes and medals will be awarded to the top three male and female finishers in seven age brackets.\n	\n		To download a registration form to return by mail\, visit www.nkcschools.org/foundation-5k. To register online\, go to the Kansas City Sports Commission website: www.sportkc.org. A $3 service charge will apply.\n	\n		For more information about the event and sponsorship opportunities ranging from $250 to $2\,500\, contact Jan Lewis at jlewis1@nkcschools.org or 816-413-5004
X-ALT-DESC;FMTTYPE=text/html:<div style="color: gray\;">\n	<p align="LEFT">\n		<span style="color: rgb(0\, 0\, 0)\;"><font face="Times New Roman">Celebrate North Kansas City Schools </font><font face="Times New Roman">100</font><font face="Times New Roman" size="1"><font face="Times New Roman" size="1">th</font></font><font face="Times New Roman" size="1"><font face="Times New Roman" size="1"> <span style="font-size: 12px\;">birthday</span></font></font><font face="Times New Roman"><span style="font-size: 12px\;">*</span> on Saturday\, May 4\, 2013\, at North Kansas City High School and the District Football</font><font face="Times New Roman"> Stadium\, located at 620 E. </font><font face="Times New Roman">23</font><font face="Times New Roman" size="1"><font face="Times New Roman" size="1">rd</font></font><font face="Times New Roman" size="1"><font face="Times New Roman" size="1"> </font></font><font face="Times New Roman">Avenue.</font><br />\n		<br />\n		<font face="Times New Roman">Join us for a </font><b><font face="Times New Roman">Parade of Schools </font></b><font face="Times New Roman">at 9 a.m.\, followed by the annual </font><b><font face="Times New Roman">RUN NKC </font></b><b><font face="Times New Roman">Schools 5K </font></b><font face="Times New Roman">at 9:45 a.m. Festivities continue until 2 p.m.<br />\n		It promises to be a day of </font><b><font face="Times New Roman">family-friendly fun</font></b><font face="Times New Roman">\, with a </font><b><font face="Times New Roman">free picnic </font></b><font face="Times New Roman">from 11 a.m. to 1 p.m. and </font><b><font face="Times New Roman">activities for all ages</font></b><font face="Times New Roman">\, </font><font face="Times New Roman">including history displays\, music performances\, a student art show\, culinary and physical </font><font face="Times New Roman">education demonstrations\, automotive program cars\, face painting\, chalk art\, children&rsquo\;s </font><font face="Times New Roman">games and much more.</font></span></p>\n	<p align="LEFT">\n		<span style="color: rgb(0\, 0\, 0)\;"><font face="Times New Roman">People who attend will be invited to sign a big </font><font face="Times New Roman">100</font><font face="Times New Roman" size="1"><font face="Times New Roman" size="1">th</font></font><font face="Times New Roman" size="1"><font face="Times New Roman" size="1"> </font></font><font face="Times New Roman">birthday cake and record </font><font face="Times New Roman">their school memories on a &ldquo\;graffiti wall&rdquo\; outside the District Football Stadium. </font></span></p>\n	<p align="LEFT">\n		<span style="color: rgb(0\, 0\, 0)\;"><b><font face="Times New Roman">Bob </font></b><b><font face="Times New Roman">Hiatt</font></b><font face="Times New Roman">\, a retired North Kansas City High School assistant principal\, will present a district history</font></span><span style="color: rgb(0\, 0\, 0)\;"><font face="Times New Roman"> overview and slideshow at 1 p.m. in the auditorium.</font></span></p>\n	<p align="LEFT">\n		<span style="color: rgb(0\, 0\, 0)\;"><font face="Times New Roman"><font face="Times New Roman">The 5K benefits the North Kansas City Schools Education Foundation and special </font><font face="Times New Roman">centennial fundraising projects\, as well as PTAs\, PTSAs and Booster Clubs at district </font><font face="Times New Roman">schools. When you register\, $5 goes to the school organization you designate.</font></font></span></p>\n	<p align="LEFT">\n		<span style="color: rgb(0\, 0\, 0)\;"><font face="Times New Roman"><font face="Times New Roman">Registration costs $25 per person and includes a Centennial T-shirt. A Family Stroll for </font><font face="Times New Roman">those with small children is $25 per family\, with one T-shirt included. Same-day </font><font face="Times New Roman">registration is $30. Prizes and medals will be awarded to the top three male and female </font><font face="Times New Roman">finishers in seven age brackets.</font></font></span></p>\n	<p align="LEFT">\n		<span style="color: rgb(0\, 0\, 0)\;"><font face="Times New Roman"><font face="Times New Roman">To download a registration form to return by mail\, visit </font><font color="#0000ff" face="Times New Roman"><font color="#0000ff" face="Times New Roman">www.nkcschools.org/foundation-5k</font></font><font face="Times New Roman">. </font><b><font face="Times New Roman">To register online</font></b><font face="Times New Roman">\, go to the Kansas City Sports Commission</font><font face="Times New Roman"> website: </font><font color="#0000ff" face="Times New Roman"><font color="#0000ff" face="Times New Roman">www.sportkc.org</font></font><font face="Times New Roman">. A $3 service charge will apply.</font></font></span></p>\n	<p align="LEFT">\n		<span style="color: rgb(0\, 0\, 0)\;"><font face="Times New Roman"><font face="Times New Roman">For more information about the event and sponsorship opportunities ranging from </font><font face="Times New Roman">$250 to $2\,500\, contact Jan Lewis at </font><font color="#0000ff" face="Times New Roman"><font color="#0000ff" face="Times New Roman">jlewis1@nkcschools.org </font></font><font face="Times New Roman">or 816-413-5004</font></font></span></p>\n</div>\n
LOCATION:District Football Stadium 620 E. 23rd Avenue
UID:e.211.3530
SEQUENCE:3
DTSTAMP:20260425T194844Z
URL:https://members.nkcbusinesscouncil.com/events/details/north-kansas-city-schools100th-birthday-05-04-2013-3530
END:VEVENT

END:VCALENDAR
