BEGIN:VCALENDAR
VERSION:2.0
PRODID:-//ChamberMaster//Event Calendar 2.0//EN
METHOD:PUBLISH
X-PUBLISHED-TTL:P3D
REFRESH-INTERVAL:P3D
CALSCALE:GREGORIAN
BEGIN:VEVENT
DTSTART:20160707T190000Z
DTEND:20160707T200000Z
X-MICROSOFT-CDO-ALLDAYEVENT:FALSE
SUMMARY:NKCBC Think Tank Session
DESCRIPTION:Join local business owners\, entrepreneurs and developers in a think tank session about the future of North Kansas City and the business community.
X-ALT-DESC;FMTTYPE=text/html:Join local business owners\, entrepreneurs&nbsp\;and developers in a think tank session about the future of North Kansas City and the business community.
LOCATION:North Kansas City Business Council Offices 320 Armour Road\, Suite 220
UID:e.211.4801
SEQUENCE:3
DTSTAMP:20260423T072412Z
URL:https://members.nkcbusinesscouncil.com/events/details/nkcbc-think-tank-session-07-07-2016-4801
END:VEVENT

END:VCALENDAR
