BEGIN:VCALENDAR
VERSION:2.0
PRODID:-//ChamberMaster//Event Calendar 2.0//EN
METHOD:PUBLISH
X-PUBLISHED-TTL:P3D
REFRESH-INTERVAL:P3D
CALSCALE:GREGORIAN
BEGIN:VEVENT
DTSTART:20160602T190000Z
DTEND:20160602T200000Z
X-MICROSOFT-CDO-ALLDAYEVENT:FALSE
SUMMARY:NKCBC Think Tank Session
DESCRIPTION:Join local business owners\, entrepreneurs and developers in a think tank session about the future of North Kansas City and the business community.
X-ALT-DESC;FMTTYPE=text/html:Join local business owners\, entrepreneurs&nbsp\;and developers in a think tank session about the future of North Kansas City and the business community.
LOCATION:North Kansas City Business Council Offices 320 Armour Road\, Suite 220
UID:e.211.4796
SEQUENCE:3
DTSTAMP:20260423T111030Z
URL:https://members.nkcbusinesscouncil.com/events/details/nkcbc-think-tank-session-06-02-2016-4796
END:VEVENT

END:VCALENDAR
