BEGIN:VCALENDAR
VERSION:2.0
PRODID:-//ChamberMaster//Event Calendar 2.0//EN
METHOD:PUBLISH
X-PUBLISHED-TTL:P3D
REFRESH-INTERVAL:P3D
CALSCALE:GREGORIAN
BEGIN:VEVENT
DTSTART:20130418T220000Z
DTEND:20130419T000000Z
X-MICROSOFT-CDO-ALLDAYEVENT:FALSE
SUMMARY:NKC Young Professionals Group Event
DESCRIPTION:Come get to know us at this free event for all under 40 who live\, work and play in North Kansas City.\n\n	\n\n	NKC Young Professional Group is dedicated to providing social and community service opportunities to those under the age of 40 who live\, work\, or play in NKC.
X-ALT-DESC;FMTTYPE=text/html:<div style="color: gray\;">\n	<span style="font-size: 26px\;"><span style="font-family: comic sans ms\;"><span style="color: rgb(0\, 0\, 0)\;">Come get to know us at this free event for all under 40 who live\, work and play in North Kansas City.<br />\n	<br />\n	NKC Young Professional Group is dedicated to providing social and community service opportunities to those under the age of 40 who live\, work\, or play in NKC.</span></span></span><br />\n	&nbsp\;</div>\n
LOCATION:Screenland Armour Theatre 408 Armour Road
UID:e.211.3514
SEQUENCE:3
DTSTAMP:20260425T211711Z
URL:https://members.nkcbusinesscouncil.com/events/details/nkc-young-professionals-group-event-04-18-2013-3514
END:VEVENT

END:VCALENDAR
