BEGIN:VCALENDAR
VERSION:2.0
PRODID:-//ChamberMaster//Event Calendar 2.0//EN
METHOD:PUBLISH
X-PUBLISHED-TTL:P3D
REFRESH-INTERVAL:P3D
CALSCALE:GREGORIAN
BEGIN:VEVENT
DTSTART:20150812T223000Z
DTEND:20150813T003000Z
X-MICROSOFT-CDO-ALLDAYEVENT:FALSE
SUMMARY:NKC Trivia Championship
DESCRIPTION:Can you beat our current Champions\, Bank Liberty?\n\n\n\nMake a team of three of your smartest coworkers or friends and meet us at Cinder Block Brewery for a head-to-head battle of the wits at our first NKC Trivia Championship.\n\n\n\nWill your team take the top prize and the trophy?\n\nFood and drink available but not provided.
X-ALT-DESC;FMTTYPE=text/html:Can you beat our current Champions\, Bank Liberty?<br />\n<br />\nMake a team of three of your smartest coworkers or friends and meet us at Cinder Block Brewery for a head-to-head battle of the wits at our first NKC Trivia Championship.<br />\n<br />\nWill your team take the top prize and the trophy?<br />\nFood and drink available but not provided.<br />\n&nbsp\;
LOCATION:Cinder Block Brewery 110 E 18th Ave.
UID:e.211.4414
SEQUENCE:3
DTSTAMP:20260424T071854Z
URL:https://members.nkcbusinesscouncil.com/events/details/nkc-trivia-championship-08-12-2015-4414
END:VEVENT

END:VCALENDAR
