BEGIN:VCALENDAR
VERSION:2.0
PRODID:-//ChamberMaster//Event Calendar 2.0//EN
METHOD:PUBLISH
X-PUBLISHED-TTL:P3D
REFRESH-INTERVAL:P3D
CALSCALE:GREGORIAN
BEGIN:VEVENT
DTSTART:20150218T233000Z
DTEND:20150219T013000Z
X-MICROSOFT-CDO-ALLDAYEVENT:FALSE
SUMMARY:NKC Trivia Championship
DESCRIPTION:Make a team of three of your smartest coworkers or friends and meet us at Cinder Block Brewery for a head-to-head battle of the wits at our first NKC Trivia Championship.\n\nAre you the smartest company in North Kansas City?\n\nWill your team take the top prize and the trophy?\n\nFood and drink available but not provided.
X-ALT-DESC;FMTTYPE=text/html:Make a team of three of your smartest coworkers or friends and meet us at Cinder Block Brewery for a head-to-head battle of the wits at our first NKC Trivia Championship.<br />\nAre you the smartest company in North Kansas City?<br />\nWill your team take the top prize and the trophy?<br />\nFood and drink available but not provided.<br />\n&nbsp\;
LOCATION:Cinder Block Brewery 110 E 18th Ave.
UID:e.211.4407
SEQUENCE:3
DTSTAMP:20260424T151357Z
URL:https://members.nkcbusinesscouncil.com/events/details/nkc-trivia-championship-02-18-2015-4407
END:VEVENT

END:VCALENDAR
