BEGIN:VCALENDAR
VERSION:2.0
PRODID:-//ChamberMaster//Event Calendar 2.0//EN
METHOD:PUBLISH
X-PUBLISHED-TTL:P3D
REFRESH-INTERVAL:P3D
CALSCALE:GREGORIAN
BEGIN:VEVENT
DTSTART:20130420T000000Z
DTEND:20130420T020000Z
X-MICROSOFT-CDO-ALLDAYEVENT:FALSE
SUMMARY:NKC Kiwanis' Spring Fever Dance
DESCRIPTION:On April 19th  7:00 PM at the Briarcliff Marriot Courtyard 4000 Courtyard Dr. KCMO 64116 we will be hosting a "Spring Fever Dance" to benefit our Foundation and High School Seniors. \n\nTickets are $50 per person. \n\nHors d'oeuvres will be provided by Trezo Mare. \n\nFor reservations contact Brian Hall at 4131 N Mulberry Drive Suite 200 Kansas City MO 64116  816-507-3331.
X-ALT-DESC;FMTTYPE=text/html:<span style="font-family: arial\;"><span style="font-size: 16px\;"><strong>On April 19<sup>th</sup>&nbsp\; 7:00 PM at the Briarcliff Marriot Courtyard 4000 Courtyard Dr. KCMO 64116</strong> <strong>we will be</strong> <strong>hosting a &ldquo\;Spring Fever Dance&rdquo\; to benefit our Foundation and High School Seniors</strong>.&nbsp\;<br />\n<strong>Tickets are $50 per person.&nbsp\;<br />\nHors d&rsquo\;oeuvres will be provided by Trezo Mare.&nbsp\;<br />\nFor reservations contact Brian Hall at 4131 N Mulberry Drive Suite 200 Kansas City MO 64116 &nbsp\;816-507-3331.&nbsp\;&nbsp\;&nbsp\;</strong></span></span><br />\n
LOCATION:Briarcliff Marriot
UID:e.211.3520
SEQUENCE:3
DTSTAMP:20260425T211722Z
URL:https://members.nkcbusinesscouncil.com/events/details/nkc-kiwanis-spring-fever-dance-04-19-2013-3520
END:VEVENT

END:VCALENDAR
