BEGIN:VCALENDAR
VERSION:2.0
PRODID:-//ChamberMaster//Event Calendar 2.0//EN
METHOD:PUBLISH
X-PUBLISHED-TTL:P3D
REFRESH-INTERVAL:P3D
CALSCALE:GREGORIAN
BEGIN:VEVENT
DTSTART:20160525T230000Z
DTEND:20160526T010000Z
X-MICROSOFT-CDO-ALLDAYEVENT:FALSE
SUMMARY:NKC Hospital Club W - Wine & Wisdom Series
DESCRIPTION:Marriage\, motherhood and all the mishaps they bring Kerri Pomarolli\, professional comedian\, actress\, wife and mother knows how to throw one hilarious Moms Night Out party when she takes the stage to poke fun at life. If getting the giggles isn't enough\, we'll have food\, drinks and gifts\, too!\n\n$15/person (members)\n\n$20/person (non-members)\; to register\, visit ClubWkc.com.
X-ALT-DESC;FMTTYPE=text/html:<div style="color: gray\;"><span style="color: rgb(0\, 0\, 0)\;"><span style="font-size: medium\;"><span style="font-family: calibri\;">Marriage\, motherhood and all the mishaps they bring&hellip\;Kerri Pomarolli\, professional comedian\, actress\, wife and mother knows how to throw one hilarious Moms Night Out party when she takes the stage to poke fun at life. If getting the giggles isn&rsquo\;t enough\, we&rsquo\;ll have food\, drinks and gifts\, too!</span></span><br />\n<span style="font-size: medium\;"><span style="font-family: calibri\;">$15/person (members)<br />\n$20/person (non-members)\; to register\, visit ClubWkc.com.</span></span></span><br />\n&nbsp\;</div>\n
LOCATION:Improv Club at Zona Rosa\, 7260 NW 87th St.\, Kansas City\, MO 64153
UID:e.211.5019
SEQUENCE:3
DTSTAMP:20260423T180452Z
URL:https://members.nkcbusinesscouncil.com/events/details/nkc-hospital-club-w-wine-wisdom-series-05-25-2016-5019
END:VEVENT

END:VCALENDAR
