BEGIN:VCALENDAR
VERSION:2.0
PRODID:-//ChamberMaster//Event Calendar 2.0//EN
METHOD:PUBLISH
X-PUBLISHED-TTL:P3D
REFRESH-INTERVAL:P3D
CALSCALE:GREGORIAN
BEGIN:VEVENT
DTSTART:20160518T173000Z
DTEND:20160518T181500Z
X-MICROSOFT-CDO-ALLDAYEVENT:FALSE
SUMMARY:NKC Hospital Club W - The Midwifery Experience
DESCRIPTION:North Kansas City Hospital\, 1st floor Pavilion\, 2790 Clay Edwards Drive \n\nWhat is the difference between a midwife and an OB/GYN? Learn about NKCH's midwifery program when Certified Nurse- Midwives Kim Anderson and Tamsin Lewis share their experiences and insights. Light snacks and drinks provided.
X-ALT-DESC;FMTTYPE=text/html:<p><span style="font-size: medium\;"><span style="font-family: calibri\;"><span style="font-size: medium\;">North Kansas City Hospital\, 1st floor Pavilion\, 2790 Clay Edwards Drive</span></span> </span><br />\n<span style="font-size: 11pt\;"><span style="font-family: calibri\,sans-serif\;">What is the difference between a midwife and an OB/GYN? Learn about NKCH&rsquo\;s midwifery program when Certified Nurse- Midwives Kim Anderson and Tamsin Lewis share their experiences and insights. Light snacks and drinks provided.&nbsp\; </span></span></p>\n
LOCATION:North Kansas City Hospital\, 1st floor Pavilion\, Women's Imaging Center\, 2790 Clay Edwards Drive
UID:e.211.5018
SEQUENCE:3
DTSTAMP:20260423T180231Z
URL:https://members.nkcbusinesscouncil.com/events/details/nkc-hospital-club-w-the-midwifery-experience-05-18-2016-5018
END:VEVENT

END:VCALENDAR
