BEGIN:VCALENDAR
VERSION:2.0
PRODID:-//ChamberMaster//Event Calendar 2.0//EN
METHOD:PUBLISH
X-PUBLISHED-TTL:P3D
REFRESH-INTERVAL:P3D
CALSCALE:GREGORIAN
BEGIN:VEVENT
DTSTART:20160211T000000Z
DTEND:20160211T013000Z
X-MICROSOFT-CDO-ALLDAYEVENT:FALSE
SUMMARY:NKC Hospital Club W - S-T-R-E-T-C-H YOUR HEART
DESCRIPTION:Join us for a night of friends\, stress relief and fun with an entertaining resistance-band workout. Take your new band and personalized exercise plan home with you. Don't "resist"   sign up today!
X-ALT-DESC;FMTTYPE=text/html:<font color="#000000"><span style="font-family: &quot\;Calibri&quot\;\,&quot\;sans-serif&quot\;\; font-size: 11pt\; mso-fareast-font-family: &quot\;Times New Roman&quot\;\; mso-ansi-language: EN-US\; mso-fareast-language: EN-US\; mso-bidi-language: AR-SA\; mso-bidi-font-family: Arial\; mso-ascii-theme-font: minor-latin\; mso-hansi-theme-font: minor-latin\;">Join us for a night of friends\, stress relief and fun with an entertaining resistance-band workout. Take your new band and personalized exercise plan home with you. Don&rsquo\;t &ldquo\;resist&rdquo\; &ndash\; sign up today!</span><span style="font-family: &quot\;Calibri&quot\;\,&quot\;sans-serif&quot\;\; font-size: 11pt\; mso-fareast-font-family: Calibri\; mso-ansi-language: EN-US\; mso-fareast-language: EN-US\; mso-bidi-language: AR-SA\; mso-bidi-font-family: DagnyOffcPro\; mso-fareast-theme-font: minor-latin\; mso-ascii-theme-font: minor-latin\; mso-hansi-theme-font: minor-latin\;"> </span></font>
LOCATION:Zona Rosa/The Grove\, 8640 Dixon Ave. Kansas City\, MO 64153
UID:e.211.4912
SEQUENCE:3
DTSTAMP:20260424T002532Z
URL:https://members.nkcbusinesscouncil.com/events/details/nkc-hospital-club-w-s-t-r-e-t-c-h-your-heart-02-10-2016-4912
END:VEVENT

END:VCALENDAR
