BEGIN:VCALENDAR
VERSION:2.0
PRODID:-//ChamberMaster//Event Calendar 2.0//EN
METHOD:PUBLISH
X-PUBLISHED-TTL:P3D
REFRESH-INTERVAL:P3D
CALSCALE:GREGORIAN
BEGIN:VEVENT
DTSTART:20160713T233000Z
DTEND:20160714T003000Z
X-MICROSOFT-CDO-ALLDAYEVENT:FALSE
SUMMARY:NKC Hospital Club W - Parent & Child Together (P.A.C.T)
DESCRIPTION:Team up with your kiddo (18 and under) to tackle fun challenges at our new Parent & Child Together (PACT) events. We've scouted outdoor locations around North Kansas City for this exciting series that combines quality time and play time.
X-ALT-DESC;FMTTYPE=text/html:<div style="color: gray\;"><span style="font-family: &quot\;Calibri&quot\;\,&quot\;sans-serif&quot\;\; font-size: 11pt\; mso-ascii-theme-font: minor-latin\; mso-fareast-font-family: &quot\;Times New Roman&quot\;\; mso-hansi-theme-font: minor-latin\; mso-bidi-font-family: &quot\;Times New Roman&quot\;\; mso-ansi-language: EN-US\; mso-fareast-language: EN-US\; mso-bidi-language: AR-SA\;"><font color="#000000">Team up with your kiddo (18 and under) to tackle fun challenges at our new Parent &amp\; Child Together (PACT) events. We&rsquo\;ve scouted outdoor locations around North Kansas City for this exciting series that combines quality time and play time. </font></span><br />\n&nbsp\;</div>\n
LOCATION:The Sands at Burlington Creek\, 6109 NW 63rd Terr.\, Kansas City\, MO 64151
UID:e.211.5135
SEQUENCE:3
DTSTAMP:20260423T113214Z
URL:https://members.nkcbusinesscouncil.com/events/details/nkc-hospital-club-w-parent-child-together-p-a-c-t-07-13-2016-5135
END:VEVENT

END:VCALENDAR
