BEGIN:VCALENDAR
VERSION:2.0
PRODID:-//ChamberMaster//Event Calendar 2.0//EN
METHOD:PUBLISH
X-PUBLISHED-TTL:P3D
REFRESH-INTERVAL:P3D
CALSCALE:GREGORIAN
BEGIN:VEVENT
DTSTART:20160608T233000Z
DTEND:20160609T003000Z
X-MICROSOFT-CDO-ALLDAYEVENT:FALSE
SUMMARY:NKC Hospital Club W - Parent & Child Together (P.A.C.T)
DESCRIPTION:Enjoy fun challenges with your child (18 years of age or older) in the great outdoors. PACT events encourage parent-child teamwork.
X-ALT-DESC;FMTTYPE=text/html:<div style="color: gray\;"><span style="font-size: 11pt\;"><span style="font-family: calibri\,sans-serif\;">Enjoy fun challenges with your child (18 years of age or older) in the great outdoors. PACT events encourage parent-child teamwork.&nbsp\; </span></span><br />\n&nbsp\;</div>\n
LOCATION:Macken Park
UID:e.211.5127
SEQUENCE:3
DTSTAMP:20260423T113104Z
URL:https://members.nkcbusinesscouncil.com/events/details/nkc-hospital-club-w-parent-child-together-p-a-c-t-06-08-2016-5127
END:VEVENT

END:VCALENDAR
