BEGIN:VCALENDAR
VERSION:2.0
PRODID:-//ChamberMaster//Event Calendar 2.0//EN
METHOD:PUBLISH
X-PUBLISHED-TTL:P3D
REFRESH-INTERVAL:P3D
CALSCALE:GREGORIAN
BEGIN:VEVENT
DTSTART:20160310T000000Z
DTEND:20160310T013000Z
X-MICROSOFT-CDO-ALLDAYEVENT:FALSE
SUMMARY:NKC Hospital Club W - PAMPER YOURSELF
DESCRIPTION:Learn new ways to calm your mind\, body and spirit with restorative yoga\, essential oils\, self-massage and meditation by Vivian and Lynn from Gardens of Delight. Wear loose clothing for yoga practice and arrive make-up free so you're ready for a refreshing facial. Snacks and beverages provided.
X-ALT-DESC;FMTTYPE=text/html:<span style="font-family: &quot\;Calibri&quot\;\,&quot\;sans-serif&quot\;\; font-size: 11pt\; mso-fareast-font-family: &quot\;Times New Roman&quot\;\; mso-ansi-language: EN-US\; mso-fareast-language: EN-US\; mso-bidi-language: AR-SA\; mso-bidi-font-family: &quot\;Times New Roman&quot\;\; mso-ascii-theme-font: minor-latin\; mso-hansi-theme-font: minor-latin\;"><font color="#000000">Learn new ways to calm your mind\, body and spirit with restorative yoga\, essential oils\, self-massage and meditation by Vivian and Lynn from Gardens of Delight. Wear loose clothing for yoga practice and arrive make-up free so you&rsquo\;re ready for a refreshing facial. Snacks and beverages provided. </font></span>
LOCATION:North Kansas City Hospital\, Skyview Room\, 12th Floor\, Main Hospital 2800 Clay Edwards Drive
UID:e.211.4930
SEQUENCE:3
DTSTAMP:20260423T213125Z
URL:https://members.nkcbusinesscouncil.com/events/details/nkc-hospital-club-w-pamper-yourself-03-09-2016-4930
END:VEVENT

END:VCALENDAR
