BEGIN:VCALENDAR
VERSION:2.0
PRODID:-//ChamberMaster//Event Calendar 2.0//EN
METHOD:PUBLISH
X-PUBLISHED-TTL:P3D
REFRESH-INTERVAL:P3D
CALSCALE:GREGORIAN
BEGIN:VEVENT
DTSTART:20160712T223000Z
DTEND:20160712T233000Z
X-MICROSOFT-CDO-ALLDAYEVENT:FALSE
SUMMARY:NKC Hospital Club W - Moms On The MoveSociety
DESCRIPTION:Selecting and storing produce properly are the secrets to creating healthy meals at home. Megan Shamleffer\, a registered dietitian with Gladstone Hy-Vee\, shares her insider tips on how to pick in-season fruits and veggies. She'll also pass along simple ideas and take-home recipes for adding more fresh produce into your daily diet. And\, did we mention there will be taste tests? Mark your calendar to join us!
X-ALT-DESC;FMTTYPE=text/html:<p><span style="font-size: medium\;"><span style="font-family: calibri\;">Selecting and storing produce properly are the secrets to creating healthy meals at home. Megan Shamleffer\, a registered dietitian with Gladstone Hy-Vee\, shares her insider tips on how to pick in-season fruits and veggies. She&rsquo\;ll also pass along simple ideas and take-home recipes for adding more fresh produce into your daily diet. And\, did we mention there will be taste tests? Mark your calendar to join us!</span></span><br />\n&nbsp\;</p>\n
LOCATION:Gladstone Community Health Center\, 6901 N Holmes St.\, Gladstone\, MO 64118
UID:e.211.5136
SEQUENCE:3
DTSTAMP:20260423T113213Z
URL:https://members.nkcbusinesscouncil.com/events/details/nkc-hospital-club-w-moms-on-the-movesociety-07-12-2016-5136
END:VEVENT

END:VCALENDAR
