BEGIN:VCALENDAR
VERSION:2.0
PRODID:-//ChamberMaster//Event Calendar 2.0//EN
METHOD:PUBLISH
X-PUBLISHED-TTL:P3D
REFRESH-INTERVAL:P3D
CALSCALE:GREGORIAN
BEGIN:VEVENT
DTSTART:20160416T173000Z
DTEND:20160416T181500Z
X-MICROSOFT-CDO-ALLDAYEVENT:FALSE
SUMMARY:NKC Hospital Club W - Moms On The MoveSociety
DESCRIPTION:When you have little ones\, it's hard to find time to exercise. Why not workout with your toddler? In our 6-week program\, you'll try different types of workouts and discover what you and your toddler enjoy most.
X-ALT-DESC;FMTTYPE=text/html:<p><span style="font-family: &quot\;Calibri&quot\;\,&quot\;sans-serif&quot\;\; font-size: 11pt\; mso-fareast-font-family: &quot\;Times New Roman&quot\;\; mso-bidi-font-family: &quot\;Times New Roman&quot\;\; mso-ansi-language: EN-US\; mso-fareast-language: EN-US\; mso-bidi-language: AR-SA\; mso-ascii-theme-font: minor-latin\; mso-hansi-theme-font: minor-latin\;"><font color="#000000">When you have little ones\, it&rsquo\;s hard to find time to exercise. Why not workout with your toddler? In our 6-week program\, you&rsquo\;ll try different types of workouts and discover what you and your toddler enjoy most. </font></span></p>\n
LOCATION:North Kansas City Hospital\, Professional Building\, 2700 Clay Edwards Dr.\, Suite 340\, Aerobics Room
UID:e.211.5047
SEQUENCE:3
DTSTAMP:20260423T180918Z
URL:https://members.nkcbusinesscouncil.com/events/details/nkc-hospital-club-w-moms-on-the-movesociety-04-16-2016-5047
END:VEVENT

END:VCALENDAR
