BEGIN:VCALENDAR
VERSION:2.0
PRODID:-//ChamberMaster//Event Calendar 2.0//EN
METHOD:PUBLISH
X-PUBLISHED-TTL:P3D
REFRESH-INTERVAL:P3D
CALSCALE:GREGORIAN
BEGIN:VEVENT
DTSTART:20160430T140000Z
DTEND:20160430T170000Z
X-MICROSOFT-CDO-ALLDAYEVENT:FALSE
SUMMARY:NKC Hospital Club W - Moms On The Move Society
DESCRIPTION:Check out several classes to find which one fits your needs. Try Cardio Pump\, Functional Training\, Kickboxing\, Body Sculpt\, Power Yoga and Aqua Zumba.
X-ALT-DESC;FMTTYPE=text/html:<p><span style="font-size: medium\;"><span style="font-family: calibri\;">Check out several classes to find which one fits your needs. Try Cardio Pump\, Functional Training\, Kickboxing\, Body Sculpt\, Power Yoga and Aqua Zumba.</span></span><br />\n<br />\n&nbsp\;</p>\n
LOCATION:North Kansas City Hospital\, Professional Building\, 2700 Clay Edwards Dr.\, Suite 340\, Aerobics Room
UID:e.211.5063
SEQUENCE:3
DTSTAMP:20260423T180727Z
URL:https://members.nkcbusinesscouncil.com/events/details/nkc-hospital-club-w-moms-on-the-move-society-04-30-2016-5063
END:VEVENT

END:VCALENDAR
