BEGIN:VCALENDAR
VERSION:2.0
PRODID:-//ChamberMaster//Event Calendar 2.0//EN
METHOD:PUBLISH
X-PUBLISHED-TTL:P3D
REFRESH-INTERVAL:P3D
CALSCALE:GREGORIAN
BEGIN:VEVENT
DTSTART:20160329T210000Z
DTEND:20160329T220000Z
X-MICROSOFT-CDO-ALLDAYEVENT:FALSE
SUMMARY:NKC Hospital Club W - Moms On The Move Society
DESCRIPTION:Take your body back and burn calories while toning and taking time for yourself. This class focuses on the problem areas after childbirth.
X-ALT-DESC;FMTTYPE=text/html:<p><span style="color: rgb(34\, 30\, 31)\;"><span style="font-size: medium\;"><span style="font-family: calibri\;">Take your body back and burn calories while toning and taking time for yourself. This class focuses on the problem areas after childbirth. </span></span></span><br />\n&nbsp\;</p>\n
LOCATION:North Kansas City Hospital\, Professional Building\, 2700 Clay Edwards Dr.\, Suite 340\, Aerobics Room
UID:e.211.5051
SEQUENCE:3
DTSTAMP:20260423T213627Z
URL:https://members.nkcbusinesscouncil.com/events/details/nkc-hospital-club-w-moms-on-the-move-society-03-29-2016-5051
END:VEVENT

END:VCALENDAR
