BEGIN:VCALENDAR
VERSION:2.0
PRODID:-//ChamberMaster//Event Calendar 2.0//EN
METHOD:PUBLISH
X-PUBLISHED-TTL:P3D
REFRESH-INTERVAL:P3D
CALSCALE:GREGORIAN
BEGIN:VEVENT
DTSTART:20160505T200000Z
DTEND:20160506T000000Z
X-MICROSOFT-CDO-ALLDAYEVENT:FALSE
SUMMARY:NKC Hospital Club W - Mammo Night Wellness Party
DESCRIPTION:North Kansas City Hospital\, 1st floor Pavilion\, Women's Imaging Center\, 2790 Clay Edwards Drive \n\nBring your mom\, sisters and girlfriends to an evening filled with friends\, education and mammograms. Enjoy chair massages\, bra fittings\, food\, beverages and gifts. Health professionals will be on-hand to answer any of your health questions.\n\nprovided.
X-ALT-DESC;FMTTYPE=text/html:<span style="font-size: medium\;"><span style="font-family: calibri\;"><span style="font-size: medium\;">North Kansas City Hospital\, 1st floor Pavilion\, Women&rsquo\;s Imaging Center\, 2790 Clay Edwards Drive</span></span> </span><br />\n<span style="color: rgb(34\, 30\, 31)\;"><span style="font-size: medium\;"><span style="font-family: calibri\;">Bring your mom\, sisters and girlfriends to an evening filled with friends\, education and mammograms. Enjoy chair massages\, bra fittings\, food\, beverages and gifts. Health professionals will be on-hand to answer any of your health questions.</span></span></span><br />\n<span style="font-family: &quot\;Calibri&quot\;\,&quot\;sans-serif&quot\;\; font-size: 11pt\; mso-fareast-font-family: &quot\;Times New Roman&quot\;\; mso-bidi-font-family: &quot\;Times New Roman&quot\;\; mso-ansi-language: EN-US\; mso-fareast-language: EN-US\; mso-bidi-language: AR-SA\; mso-ascii-theme-font: minor-latin\; mso-hansi-theme-font: minor-latin\;"><font color="#000000">provided. </font></span>
LOCATION:North Kansas City Hospital\, 1st floor Pavilion\, Women's Imaging Center\, 2790 Clay Edwards Drive
UID:e.211.5005
SEQUENCE:3
DTSTAMP:20260423T151941Z
URL:https://members.nkcbusinesscouncil.com/events/details/nkc-hospital-club-w-mammo-night-wellness-party-05-05-2016-5005
END:VEVENT

END:VCALENDAR
