BEGIN:VCALENDAR
VERSION:2.0
PRODID:-//ChamberMaster//Event Calendar 2.0//EN
METHOD:PUBLISH
X-PUBLISHED-TTL:P3D
REFRESH-INTERVAL:P3D
CALSCALE:GREGORIAN
BEGIN:VEVENT
DTSTART:20160614T210000Z
DTEND:20160614T220000Z
X-MICROSOFT-CDO-ALLDAYEVENT:FALSE
SUMMARY:NKC Hospital Club W - Body after Baby
DESCRIPTION:North Kansas City Hospital\, Professional Building\, 2700 Clay Edwards Dr.\, Suite 340\, Aerobics Room\n\nTake back your body and burn calories while toning and taking time for yourself. This class focuses on the problem areas that pop up after childbirth.\n\n$45/person\; register online at ClubWkc.com.
X-ALT-DESC;FMTTYPE=text/html:<p><span style="font-size: medium\;"><span style="font-family: calibri\;">North Kansas City Hospital\, Professional Building\, 2700 Clay Edwards Dr.\, Suite 340\, Aerobics Room<br />\nTake back your body and burn calories while toning and taking time for yourself. This class focuses on the problem areas that pop up after childbirth.</span></span><br />\n<span style="font-size: medium\;"><span style="font-family: calibri\;">$45/person\; register online at ClubWkc.com.</span></span><br />\n&nbsp\;</p>\n
LOCATION:North Kansas City Hospital\, Professional Building\, 2700 Clay Edwards Dr.\, Suite 340\, Aerobics Room
UID:e.211.5034
SEQUENCE:3
DTSTAMP:20260423T113105Z
URL:https://members.nkcbusinesscouncil.com/events/details/nkc-hospital-club-w-body-after-baby-06-14-2016-5034
END:VEVENT

END:VCALENDAR
