BEGIN:VCALENDAR
VERSION:2.0
PRODID:-//ChamberMaster//Event Calendar 2.0//EN
METHOD:PUBLISH
X-PUBLISHED-TTL:P3D
REFRESH-INTERVAL:P3D
CALSCALE:GREGORIAN
BEGIN:VEVENT
DTSTART:20140422T123000Z
DTEND:20140422T140000Z
X-MICROSOFT-CDO-ALLDAYEVENT:FALSE
SUMMARY:NKC Connect Referral Partners
DESCRIPTION:Participants can expect to meet others who believe that getting to know more about other businesses is a good way to increase your own business. Attendees should be prepared to share a very short description of their business and to briefly describe what a good referral would be as well as to share referrals when a trust level is attained.
X-ALT-DESC;FMTTYPE=text/html:Participants can expect to meet others who believe that getting to know more about other businesses is a good way to increase your own business. Attendees should be prepared to share a very short description of their business and to briefly describe what a good referral would be as well as to share referrals when a trust level is attained.
LOCATION:Aunt Mary's Cookies 309 Armour
UID:e.211.4190
SEQUENCE:3
DTSTAMP:20260425T042309Z
URL:https://members.nkcbusinesscouncil.com/events/details/nkc-connect-referral-partners-04-22-2014-4190
END:VEVENT

END:VCALENDAR
