BEGIN:VCALENDAR
VERSION:2.0
PRODID:-//ChamberMaster//Event Calendar 2.0//EN
METHOD:PUBLISH
X-PUBLISHED-TTL:P3D
REFRESH-INTERVAL:P3D
CALSCALE:GREGORIAN
BEGIN:VEVENT
DTSTART:20160826T233000Z
DTEND:20160827T010000Z
X-MICROSOFT-CDO-ALLDAYEVENT:FALSE
SUMMARY:Movies in the Park
DESCRIPTION:Movies in the Park\n\npresented by NKC Parks & Recreation\n\nThis month's movie is Inside Out.\n\nConcessions will be available for purchase.
X-ALT-DESC;FMTTYPE=text/html:Movies in the Park<br />\npresented by NKC Parks &amp\; Recreation<br />\nThis month&#39\;s movie is Inside Out.<br />\nConcessions will be available for purchase.<br />\n&nbsp\;
LOCATION:Macken Park Festival Shelter
UID:e.211.5146
SEQUENCE:3
DTSTAMP:20260423T033939Z
URL:https://members.nkcbusinesscouncil.com/events/details/movies-in-the-park-08-26-2016-5146
END:VEVENT

END:VCALENDAR
