BEGIN:VCALENDAR
VERSION:2.0
PRODID:-//ChamberMaster//Event Calendar 2.0//EN
METHOD:PUBLISH
X-PUBLISHED-TTL:P3D
REFRESH-INTERVAL:P3D
CALSCALE:GREGORIAN
BEGIN:VEVENT
DTSTART:20150724T233000Z
DTEND:20150725T010000Z
X-MICROSOFT-CDO-ALLDAYEVENT:FALSE
SUMMARY:Movies in the Park
DESCRIPTION:Movies in the Park\n\npresented by NKC Parks & Recreation\n\nThis month's movie is Back to the Future.\n\nThere will be a Park and Recreation Month celebration before the movie with ice cream\, games and bounce houses for the whole family.
X-ALT-DESC;FMTTYPE=text/html:Movies in the Park<br />\npresented by NKC Parks &amp\; Recreation<br />\nThis month&#39\;s movie is Back to the Future.<br />\nThere will be a Park and Recreation Month celebration before the movie with ice cream\, games and bounce houses for the whole family.<br />\n&nbsp\;
LOCATION:Macken Park Festival Shelter
UID:e.211.4622
SEQUENCE:3
DTSTAMP:20260424T084740Z
URL:https://members.nkcbusinesscouncil.com/events/details/movies-in-the-park-07-24-2015-4622
END:VEVENT

END:VCALENDAR
