BEGIN:VCALENDAR
VERSION:2.0
PRODID:-//ChamberMaster//Event Calendar 2.0//EN
METHOD:PUBLISH
X-PUBLISHED-TTL:P3D
REFRESH-INTERVAL:P3D
CALSCALE:GREGORIAN
BEGIN:VEVENT
DTSTART:20150626T230000Z
DTEND:20150627T020000Z
X-MICROSOFT-CDO-ALLDAYEVENT:FALSE
SUMMARY:Movies in the Park
DESCRIPTION:Movies in the Park\n\npresented by NKC Parks & Recreation\n\nThis month's movie is Paddington.\n\nThere will be a Touch A Truck event before the movie.
X-ALT-DESC;FMTTYPE=text/html:Movies in the Park<br />\npresented by NKC Parks &amp\; Recreation<br />\nThis month&#39\;s movie is Paddington.<br />\nThere will be a Touch A Truck event before the movie.<br />\n&nbsp\;
LOCATION:Macken Park Festival Shelter
UID:e.211.4620
SEQUENCE:3
DTSTAMP:20260424T095830Z
URL:https://members.nkcbusinesscouncil.com/events/details/movies-in-the-park-06-26-2015-4620
END:VEVENT

END:VCALENDAR
