BEGIN:VCALENDAR
VERSION:2.0
PRODID:-//ChamberMaster//Event Calendar 2.0//EN
METHOD:PUBLISH
X-PUBLISHED-TTL:P3D
REFRESH-INTERVAL:P3D
CALSCALE:GREGORIAN
BEGIN:VEVENT
DTSTART:20160120T173000Z
DTEND:20160120T203000Z
X-MICROSOFT-CDO-ALLDAYEVENT:FALSE
SUMMARY:Mosaic Window - Dare to Dabble
DESCRIPTION:Ages 18+\n\nThis two day process is an introduction to mosaic using cut glass\, beads and more to create a stained glass effect in a frame that can be hung in a window. Learn about the tools\, techniques and skills that you can apply to any mosaic project you might be inspired to try. All supplies and equipment needed to complete this project are included in the class price. Students will need to return another day to grout their project in open studio.
X-ALT-DESC;FMTTYPE=text/html:<span style="font-size: medium\;"><span style="font-family: arial\,sans-serif\;"><span style="color: black\;">Ages 18+<br />\nThis two day process is an introduction to mosaic using cut glass\, beads and more to create a stained glass effect in a frame that can be hung in a window. Learn about the tools\, techniques and skills that you can apply to any mosaic project you might be inspired to try. All supplies and equipment needed to complete this project are included in the class price. Students will need to return another day to grout their project in open studio.</span></span></span><br />\n<br />\n<br />\n&nbsp\;
LOCATION:Dare to Dabble 1329 Swift North Kansas City\, MO 64116
UID:e.211.4684
SEQUENCE:3
DTSTAMP:20260424T013331Z
URL:https://members.nkcbusinesscouncil.com/events/details/mosaic-window-dare-to-dabble-01-20-2016-4684
END:VEVENT

END:VCALENDAR
