BEGIN:VCALENDAR
VERSION:2.0
PRODID:-//ChamberMaster//Event Calendar 2.0//EN
METHOD:PUBLISH
X-PUBLISHED-TTL:P3D
REFRESH-INTERVAL:P3D
CALSCALE:GREGORIAN
BEGIN:VEVENT
DTSTART:20141120T173000Z
DTEND:20141120T190000Z
X-MICROSOFT-CDO-ALLDAYEVENT:FALSE
SUMMARY:Monthly Membership Luncheon
DESCRIPTION:candid marketing + communications will be presenting an update on the city's branding campaign.
X-ALT-DESC;FMTTYPE=text/html:candid marketing + communications will be presenting an update on the city&#39\;s branding campaign.
LOCATION:Black On Burlington 1327 Burlington\, Suite 700
UID:e.211.4136
SEQUENCE:3
DTSTAMP:20260424T202142Z
URL:https://members.nkcbusinesscouncil.com/events/details/monthly-membership-luncheon-11-20-2014-4136
END:VEVENT

END:VCALENDAR
