BEGIN:VCALENDAR
VERSION:2.0
PRODID:-//ChamberMaster//Event Calendar 2.0//EN
METHOD:PUBLISH
X-PUBLISHED-TTL:P3D
REFRESH-INTERVAL:P3D
CALSCALE:GREGORIAN
BEGIN:VEVENT
DTSTART:20141023T163000Z
DTEND:20141023T180000Z
X-MICROSOFT-CDO-ALLDAYEVENT:FALSE
SUMMARY:Monthly Membership Luncheon
DESCRIPTION:This month's luncheon will be at Harvest Productions. They will be taking us on a quick tour of their facility\, giving a presentation on who they are and what they do. In addition\, Jay Swearingen and Jerry Nolte\, candidates for Clay County Presiding Commissioner\, will be speaking to our group for a few minutes. Lunch will be catered by Black on Burlington.
X-ALT-DESC;FMTTYPE=text/html:This month&#39\;s luncheon will be at Harvest Productions. They will be taking us on a quick tour of their facility\, giving a presentation on who they are and what they do. In addition\, Jay Swearingen and Jerry Nolte\, candidates for <span style="font-family:calibri\,sans-serif\;"><span style="font-size:11.0pt\;">Clay County Presiding Commissioner\, will be speaking to our group for a few minutes. </span></span>Lunch will be catered by Black on Burlington.
LOCATION:Harvest Productions 1340 Burlington
UID:e.211.4133
SEQUENCE:3
DTSTAMP:20260424T202140Z
URL:https://members.nkcbusinesscouncil.com/events/details/monthly-membership-luncheon-10-23-2014-4133
END:VEVENT

END:VCALENDAR
