BEGIN:VCALENDAR
VERSION:2.0
PRODID:-//ChamberMaster//Event Calendar 2.0//EN
METHOD:PUBLISH
X-PUBLISHED-TTL:P3D
REFRESH-INTERVAL:P3D
CALSCALE:GREGORIAN
BEGIN:VEVENT
DTSTART:20140918T163000Z
DTEND:20140918T180000Z
X-MICROSOFT-CDO-ALLDAYEVENT:FALSE
SUMMARY:Monthly Membership Luncheon
DESCRIPTION:This month's presentation will be on the Northland CAPS program.
X-ALT-DESC;FMTTYPE=text/html:This month&#39\;s presentation will be on the Northland CAPS program.
LOCATION:Black on Burlington 1327 Burlington Suite 700
UID:e.211.4132
SEQUENCE:3
DTSTAMP:20260424T214100Z
URL:https://members.nkcbusinesscouncil.com/events/details/monthly-membership-luncheon-09-18-2014-4132
END:VEVENT

END:VCALENDAR
