BEGIN:VCALENDAR
VERSION:2.0
PRODID:-//ChamberMaster//Event Calendar 2.0//EN
METHOD:PUBLISH
X-PUBLISHED-TTL:P3D
REFRESH-INTERVAL:P3D
CALSCALE:GREGORIAN
BEGIN:VEVENT
DTSTART:20140828T163000Z
DTEND:20140828T180000Z
X-MICROSOFT-CDO-ALLDAYEVENT:FALSE
SUMMARY:Monthly Membership Luncheon
DESCRIPTION:This month's luncheon will feature the State of the City talk and the 2014 Recognition Awards.
X-ALT-DESC;FMTTYPE=text/html:This month&#39\;s luncheon will feature the State of the City talk and the 2014 Recognition Awards.
LOCATION:Black on Burlington 1327 Burlington Suite 700
UID:e.211.4131
SEQUENCE:3
DTSTAMP:20260424T225929Z
URL:https://members.nkcbusinesscouncil.com/events/details/monthly-membership-luncheon-08-28-2014-4131
END:VEVENT

END:VCALENDAR
