BEGIN:VCALENDAR
VERSION:2.0
PRODID:-//ChamberMaster//Event Calendar 2.0//EN
METHOD:PUBLISH
X-PUBLISHED-TTL:P3D
REFRESH-INTERVAL:P3D
CALSCALE:GREGORIAN
BEGIN:VEVENT
DTSTART:20140724T163000Z
DTEND:20140724T180000Z
X-MICROSOFT-CDO-ALLDAYEVENT:FALSE
SUMMARY:Monthly Membership Luncheon
DESCRIPTION:This month's speaker will be Rodger Dean Duncan. In 2012 he published Change-friendly Leadership: How to Transform Good Intentions Into Great Performance. The book quickly became an international bestseller and won several awards. Duncan is also a frequent contributor to Fast Company and Forbes magazines.
X-ALT-DESC;FMTTYPE=text/html:<p>This month&#39\;s speaker will be Rodger Dean Duncan. In 2012 he published <i>Change-friendly Leadership: How to Transform Good Intentions Into Great Performance.</i> The book quickly became an international bestseller and won several awards. Duncan is also a frequent contributor to <i>Fast Company</i> and <i>Forbes</i> magazines.</p>\n
LOCATION:Black on Burlington 1327 Burlington Suite 700
UID:e.211.4130
SEQUENCE:3
DTSTAMP:20260425T000136Z
URL:https://members.nkcbusinesscouncil.com/events/details/monthly-membership-luncheon-07-24-2014-4130
END:VEVENT

END:VCALENDAR
