BEGIN:VCALENDAR
VERSION:2.0
PRODID:-//ChamberMaster//Event Calendar 2.0//EN
METHOD:PUBLISH
X-PUBLISHED-TTL:P3D
REFRESH-INTERVAL:P3D
CALSCALE:GREGORIAN
BEGIN:VEVENT
DTSTART:20140522T163000Z
DTEND:20140522T180000Z
X-MICROSOFT-CDO-ALLDAYEVENT:FALSE
SUMMARY:Monthly Membership Luncheon
DESCRIPTION:Jane Chu from the Kauffman Center will be this month's speaker.
X-ALT-DESC;FMTTYPE=text/html:Jane Chu from the Kauffman Center will be this month&#39\;s speaker.
LOCATION:Black on Burlington 1327 Burlington Suite 700
UID:e.211.4128
SEQUENCE:3
DTSTAMP:20260425T041833Z
URL:https://members.nkcbusinesscouncil.com/events/details/monthly-membership-luncheon-05-22-2014-4128
END:VEVENT

END:VCALENDAR
