BEGIN:VCALENDAR
VERSION:2.0
PRODID:-//ChamberMaster//Event Calendar 2.0//EN
METHOD:PUBLISH
X-PUBLISHED-TTL:P3D
REFRESH-INTERVAL:P3D
CALSCALE:GREGORIAN
BEGIN:VEVENT
DTSTART:20140424T163000Z
DTEND:20140424T180000Z
X-MICROSOFT-CDO-ALLDAYEVENT:FALSE
SUMMARY:Monthly Membership Luncheon
DESCRIPTION:This month's topic will be an update on the Streetcar Project and the North Kansas City's Master Plan.
X-ALT-DESC;FMTTYPE=text/html:This month&#39\;s topic will be an update on the Streetcar Project and the North Kansas City&#39\;s Master Plan.
LOCATION:Black on Burlington 1327 Burlington Suite 700
UID:e.211.4127
SEQUENCE:3
DTSTAMP:20260425T042205Z
URL:https://members.nkcbusinesscouncil.com/events/details/monthly-membership-luncheon-04-24-2014-4127
END:VEVENT

END:VCALENDAR
