BEGIN:VCALENDAR
VERSION:2.0
PRODID:-//ChamberMaster//Event Calendar 2.0//EN
METHOD:PUBLISH
X-PUBLISHED-TTL:P3D
REFRESH-INTERVAL:P3D
CALSCALE:GREGORIAN
BEGIN:VEVENT
DTSTART:20160428T163000Z
DTEND:20160428T180000Z
X-MICROSOFT-CDO-ALLDAYEVENT:FALSE
SUMMARY:Monthly Member Luncheon & Annual Meeting
DESCRIPTION:The presenter will be Drew Meyerowich\, COO of Holland 1916 on Lessons of Leadership. Drew had a distinguished military career before retiring and becoming the COO for Holland 1916. Among other roles he served as Director of the U.S. Army's Command and General Staff School in Fort Leavenworth\, Kan.\, and was the commander of Co. A during the brutal Oct. 3-4\, 1993 battle to rescue Marines in Mogadishu. I have met with Drew and found him to be inspiring\, but easy to talk with and to listen to. We are fortunate to have this person in our midst as an executive of one of our member businesses.\n\n http://soldiers.dodlive.mil/2013/10/never-leave-a-fallen-comrade-veterans-remember-mogadishu-rescue-mission-20-years-later/#sthash.HyqkB8sA.dpuf\n\n\n\nThis is also the Annual Meeting at which Board members will be elected.
X-ALT-DESC;FMTTYPE=text/html:<p style="margin: 0in 0in 0pt\;"><span style="font-size: 14pt\;"><font color="#000000" face="Calibri">The presenter will be Drew Meyerowich\, COO of Holland 1916 on Lessons of Leadership. Drew had a distinguished military career before retiring and becoming the COO for Holland 1916. Among other roles he served as Director of the U.S. Army&rsquo\;s Command and General Staff School in Fort Leavenworth\, Kan.\, and was the commander of Co. A during the brutal Oct. 3-4\, 1993 battle to rescue Marines in Mogadishu. I have met with Drew and found him to be inspiring\, but easy to talk with and to listen to. We are fortunate to have this person in our midst as an executive of one of our member businesses.</font></span></p>\n\n<p style="margin: 0in 0in 0pt\;"><span style="font-size: 14pt\;"><font color="#000000" face="Calibri">&nbsp\;</font></span><span style="font-family: &quot\;Calibri&quot\;\,&quot\;sans-serif&quot\;\; font-size: 14pt\; mso-fareast-font-family: Calibri\; mso-fareast-theme-font: minor-latin\; mso-bidi-font-family: &quot\;Times New Roman&quot\;\; mso-ansi-language: EN-US\; mso-fareast-language: EN-US\; mso-bidi-language: AR-SA\;"><a href="http://soldiers.dodlive.mil/2013/10/never-leave-a-fallen-comrade-veterans-remember-mogadishu-rescue-mission-20-years-later/#sthash.HyqkB8sA.dpuf"><font color="#0000ff">http://soldiers.dodlive.mil/2013/10/never-leave-a-fallen-comrade-veterans-remember-mogadishu-rescue-mission-20-years-later/#sthash.HyqkB8sA.dpuf</font></a><br />\n<br />\n<font color="#000000">This is also the Annual Meeting at which Board members will be elected. </font></span></p>\n
LOCATION:Black on Burlington 1327 Burlington North Kansas City\, MO 64116
UID:e.211.4702
SEQUENCE:3
DTSTAMP:20260423T212757Z
URL:https://members.nkcbusinesscouncil.com/events/details/monthly-member-luncheon-annual-meeting-04-28-2016-4702
END:VEVENT

END:VCALENDAR
