BEGIN:VCALENDAR
VERSION:2.0
PRODID:-//ChamberMaster//Event Calendar 2.0//EN
METHOD:PUBLISH
X-PUBLISHED-TTL:P3D
REFRESH-INTERVAL:P3D
CALSCALE:GREGORIAN
BEGIN:VEVENT
DTSTART:20180125T173000Z
DTEND:20180125T190000Z
X-MICROSOFT-CDO-ALLDAYEVENT:FALSE
SUMMARY:Monthly Member Luncheon
DESCRIPTION:This month's speaker will be Dave Palmstein from Birch Creek Partners.\n\nDave Palmstein is the Managing Partner at Birch Creek Partners with an office at iWerx. He is actively involved in the funding and development of start-ups\, rapid growth\, spin-outs\, and turn-around ventures. He provides companies with executive coaching\, management consulting\, major program/project management\, manufacturing guidance and M&A expertise. He works primarily with companies in the medical\, technology and manufacturing industries. Dave also serves as the screening officer for applications for funding through the Northland Angel Investors Fund. His presentation will be primarily on "Private Equity Investments for Innovative Companies" but he will also explain the planned incubator for start-up advanced manufacturing businesses that will be based in North Kansas City.
X-ALT-DESC;FMTTYPE=text/html:<span style="font-size:14px\;"><span style="font-family:arial\;">This month&#39\;s speaker will be Dave Palmstein&nbsp\;from Birch Creek Partners.<br />\nDave Palmstein is the Managing Partner at Birch Creek Partners with an office at iWerx. He is actively involved in the funding and development of start-ups\, rapid growth\, spin-outs\, and turn-around ventures. He provides companies with executive coaching\, management consulting\, major program/project management\, manufacturing guidance and M&amp\;A expertise. He works primarily with companies in the medical\, technology and manufacturing industries. Dave also serves as the screening officer for applications for funding through the Northland Angel Investors Fund. His presentation will be primarily on &ldquo\;Private Equity Investments for Innovative Companies&rdquo\; but he will also explain the planned incubator for start-up advanced manufacturing businesses that will be based in North Kansas City.</span></span><br />\n&nbsp\;
LOCATION:Black on Burlington 1327 Burlington North Kansas City\, MO 64116
UID:e.211.5370
SEQUENCE:3
DTSTAMP:20260420T141159Z
URL:https://members.nkcbusinesscouncil.com/events/details/monthly-member-luncheon-5370
END:VEVENT

END:VCALENDAR
